BEGIN:VCALENDAR
VERSION:2.0
METHOD:PUBLISH
PRODID:-//Accessible Web Design//My Calendar//http://www.joedolson.com//v//EN';
BEGIN:VEVENT
UID:752-718
LOCATION:
SUMMARY:Sohvailta 12–17-vuotiaille
DTSTAMP:20260529T180000
ORGANIZER;CN=Toimitus:MAILTO:anna-maija.kalliokoski@helluntaikirkko.fi
DTSTART:20260529T180000
DTEND:20260529T200000
CATEGORIES:nuoret
URL;VALUE=URI:
DESCRIPTION;ENCODING=QUOTED-PRINTABLE: 
END:VEVENT
END:VCALENDAR