BEGIN:VCALENDAR
VERSION:2.0
METHOD:PUBLISH
PRODID:-//Accessible Web Design//My Calendar//http://www.joedolson.com//v//EN';
BEGIN:VEVENT
UID:705-679
LOCATION:
SUMMARY:Jumalanpalvelus; Gideonit vierailevat. Pyhäkoulu.
DTSTAMP:20260322T110000
ORGANIZER;CN=Toimitus:MAILTO:anna-maija.kalliokoski@helluntaikirkko.fi
DTSTART:20260322T110000
DTEND:20260322T123000
CATEGORIES:yleinen
URL;VALUE=URI:
DESCRIPTION;ENCODING=QUOTED-PRINTABLE: 
END:VEVENT
END:VCALENDAR