BEGIN:VCALENDAR
VERSION:2.0
METHOD:PUBLISH
PRODID:-//Accessible Web Design//My Calendar//http://www.joedolson.com//v//EN';
BEGIN:VEVENT
UID:742-708
LOCATION:
SUMMARY:Hävikkiruuanjako
DTSTAMP:20260508T120000
ORGANIZER;CN=Toimitus:MAILTO:anna-maija.kalliokoski@helluntaikirkko.fi
DTSTART:20260508T120000
DTEND:20260508T130000
CATEGORIES:yleinen
URL;VALUE=URI:
DESCRIPTION;ENCODING=QUOTED-PRINTABLE: 
END:VEVENT
END:VCALENDAR