BEGIN:VCALENDAR
VERSION:2.0
METHOD:PUBLISH
PRODID:-//Accessible Web Design//My Calendar//http://www.joedolson.com//v//EN';
BEGIN:VEVENT
UID:741-707
LOCATION:
SUMMARY:Hengen tuli -ilta; Esa Vihavainen
DTSTAMP:20260505T190000
ORGANIZER;CN=Toimitus:MAILTO:anna-maija.kalliokoski@helluntaikirkko.fi
DTSTART:20260505T190000
DTEND:20260505T200000
CATEGORIES:yleinen
URL;VALUE=URI:
DESCRIPTION;ENCODING=QUOTED-PRINTABLE: 
END:VEVENT
END:VCALENDAR